BEGIN:VCALENDAR
VERSION:2.0
PRODID:-//Drupal//recurring_events_ical//2.0//EN
BEGIN:VEVENT
UID:f71be821-4d93-4958-8b95-65ad1fc80ba7@events.stage.louisville.edu
DTSTAMP:20260424T193916Z
DTSTART:20250806T110000Z
DTEND:20250806T110000Z
SUMMARY:Testing Services
CONTACT:Tammy Jones-Scrogham\, 502-852-6606\, email:testing@louisville.edu
DESCRIPTION:Will you please add Testing Services as part of the offices lis
 ted in Davidson Hall?  Thank you!
URL:https://events.stage.louisville.edu/events/testing-services/2025-08-06
END:VEVENT
END:VCALENDAR