BEGIN:VCALENDAR
VERSION:2.0
PRODID:-//Drupal//recurring_events_ical//2.0//EN
BEGIN:VEVENT
UID:8705a8e7-e8dd-4187-9167-6933ea960f3f@events.stage.louisville.edu
DTSTAMP:20260424T194030Z
DTSTART:20250812T110000Z
DTEND:20250812T110000Z
SUMMARY:Testing Services
CONTACT:Tammy Jones-Scrogham\, 502-852-6606\, email:testing@louisville.edu
DESCRIPTION:Will you please add Testing Services as part of the offices lis
 ted in Davidson Hall?  Thank you!
URL:https://events.stage.louisville.edu/events/testing-services/2025-08-12
END:VEVENT
END:VCALENDAR