BEGIN:VCALENDAR
VERSION:2.0
PRODID:-//Drupal//recurring_events_ical//2.0//EN
BEGIN:VEVENT
UID:23cc1443-47cb-4e9f-a878-e6673f89074f@events.stage.louisville.edu
DTSTAMP:20260424T193925Z
DTSTART:20250820T110000Z
DTEND:20250820T110000Z
SUMMARY:Testing Services
CONTACT:Tammy Jones-Scrogham\, 502-852-6606\, email:testing@louisville.edu
DESCRIPTION:Will you please add Testing Services as part of the offices lis
 ted in Davidson Hall?  Thank you!
URL:https://events.stage.louisville.edu/events/testing-services/2025-08-20
END:VEVENT
END:VCALENDAR