BEGIN:VCALENDAR
VERSION:2.0
PRODID:-//Drupal//recurring_events_ical//2.0//EN
BEGIN:VEVENT
UID:4d907d63-4438-4bdb-9880-8400829ddede@events.stage.louisville.edu
DTSTAMP:20260424T194237Z
DTSTART:20250902T110000Z
DTEND:20250902T110000Z
SUMMARY:Testing Services
CONTACT:Tammy Jones-Scrogham\, 502-852-6606\, email:testing@louisville.edu
DESCRIPTION:Will you please add Testing Services as part of the offices lis
 ted in Davidson Hall?  Thank you!
URL:https://events.stage.louisville.edu/events/testing-services/2025-09-02
END:VEVENT
END:VCALENDAR