BEGIN:VCALENDAR
VERSION:2.0
PRODID:-//Drupal//recurring_events_ical//2.0//EN
BEGIN:VEVENT
UID:afd73cbb-4b19-42ab-a27f-7a3957d0bf13@events.stage.louisville.edu
DTSTAMP:20260424T194216Z
DTSTART:20250904T110000Z
DTEND:20250904T110000Z
SUMMARY:Testing Services
CONTACT:Tammy Jones-Scrogham\, 502-852-6606\, email:testing@louisville.edu
DESCRIPTION:Will you please add Testing Services as part of the offices lis
 ted in Davidson Hall?  Thank you!
URL:https://events.stage.louisville.edu/events/testing-services/2025-09-04
END:VEVENT
END:VCALENDAR