BEGIN:VCALENDAR
VERSION:2.0
PRODID:-//Drupal//recurring_events_ical//2.0//EN
BEGIN:VEVENT
UID:c3931e9d-4061-4b0c-8f66-fd860f6a9b4d@events.stage.louisville.edu
DTSTAMP:20260424T194238Z
DTSTART:20250909T110000Z
DTEND:20250909T110000Z
SUMMARY:Testing Services
CONTACT:Tammy Jones-Scrogham\, 502-852-6606\, email:testing@louisville.edu
DESCRIPTION:Will you please add Testing Services as part of the offices lis
 ted in Davidson Hall?  Thank you!
URL:https://events.stage.louisville.edu/events/testing-services/2025-09-09
END:VEVENT
END:VCALENDAR