BEGIN:VCALENDAR
VERSION:2.0
PRODID:-//Drupal//recurring_events_ical//2.0//EN
BEGIN:VEVENT
UID:2429490a-318c-4724-88d8-c011b02e2693@events.stage.louisville.edu
DTSTAMP:20260424T194213Z
DTSTART:20250930T110000Z
DTEND:20250930T110000Z
SUMMARY:Testing Services
CONTACT:Tammy Jones-Scrogham\, 502-852-6606\, email:testing@louisville.edu
DESCRIPTION:Will you please add Testing Services as part of the offices lis
 ted in Davidson Hall?  Thank you!
URL:https://events.stage.louisville.edu/events/testing-services/2025-09-30
END:VEVENT
END:VCALENDAR