BEGIN:VCALENDAR
VERSION:2.0
PRODID:-//Drupal//recurring_events_ical//2.0//EN
BEGIN:VEVENT
UID:53c77173-fea0-4b2c-8d1b-4f670d9e13e1@events.stage.louisville.edu
DTSTAMP:20260424T193925Z
DTSTART:20251008T110000Z
DTEND:20251008T110000Z
SUMMARY:Testing Services
CONTACT:Tammy Jones-Scrogham\, 502-852-6606\, email:testing@louisville.edu
DESCRIPTION:Will you please add Testing Services as part of the offices lis
 ted in Davidson Hall?  Thank you!
URL:https://events.stage.louisville.edu/events/testing-services/2025-10-08
END:VEVENT
END:VCALENDAR