BEGIN:VCALENDAR
VERSION:2.0
PRODID:-//Drupal//recurring_events_ical//2.0//EN
BEGIN:VEVENT
UID:cf16f82d-1f59-4e0d-b03b-54efc5792a11@events.stage.louisville.edu
DTSTAMP:20260424T194100Z
DTSTART:20251015T110000Z
DTEND:20251015T110000Z
SUMMARY:Testing Services
CONTACT:Tammy Jones-Scrogham\, 502-852-6606\, email:testing@louisville.edu
DESCRIPTION:Will you please add Testing Services as part of the offices lis
 ted in Davidson Hall?  Thank you!
URL:https://events.stage.louisville.edu/events/testing-services/2025-10-15
END:VEVENT
END:VCALENDAR