BEGIN:VCALENDAR
VERSION:2.0
PRODID:-//Drupal//recurring_events_ical//2.0//EN
BEGIN:VEVENT
UID:e2bfc61a-21e2-4b39-97a8-bf5945fc3a88@events.stage.louisville.edu
DTSTAMP:20260424T194047Z
DTSTART:20251027T110000Z
DTEND:20251027T110000Z
SUMMARY:Testing Services
CONTACT:Tammy Jones-Scrogham\, 502-852-6606\, email:testing@louisville.edu
DESCRIPTION:Will you please add Testing Services as part of the offices lis
 ted in Davidson Hall?  Thank you!
URL:https://events.stage.louisville.edu/events/testing-services/2025-10-27
END:VEVENT
END:VCALENDAR