BEGIN:VCALENDAR
VERSION:2.0
PRODID:-//Drupal//recurring_events_ical//2.0//EN
BEGIN:VEVENT
UID:20daadeb-8c40-4e6b-94cb-d564f186dcb8@events.stage.louisville.edu
DTSTAMP:20260424T194055Z
DTSTART:20251105T120000Z
DTEND:20251105T120000Z
SUMMARY:Testing Services
CONTACT:Tammy Jones-Scrogham\, 502-852-6606\, email:testing@louisville.edu
DESCRIPTION:Will you please add Testing Services as part of the offices lis
 ted in Davidson Hall?  Thank you!
URL:https://events.stage.louisville.edu/events/testing-services/2025-11-05
END:VEVENT
END:VCALENDAR