BEGIN:VCALENDAR
VERSION:2.0
PRODID:-//Drupal//recurring_events_ical//2.0//EN
BEGIN:VEVENT
UID:bb6e6b2e-2a8b-441c-96dc-61ad09d101a1@events.stage.louisville.edu
DTSTAMP:20260424T194052Z
DTSTART:20251110T120000Z
DTEND:20251110T120000Z
SUMMARY:Testing Services
CONTACT:Tammy Jones-Scrogham\, 502-852-6606\, email:testing@louisville.edu
DESCRIPTION:Will you please add Testing Services as part of the offices lis
 ted in Davidson Hall?  Thank you!
URL:https://events.stage.louisville.edu/events/testing-services/2025-11-10
END:VEVENT
END:VCALENDAR