BEGIN:VCALENDAR
VERSION:2.0
PRODID:-//Drupal//recurring_events_ical//2.0//EN
BEGIN:VEVENT
UID:119e5d36-41b2-4344-98a1-204ec09f24e2@events.stage.louisville.edu
DTSTAMP:20260424T194200Z
DTSTART:20251125T120000Z
DTEND:20251125T120000Z
SUMMARY:Testing Services
CONTACT:Tammy Jones-Scrogham\, 502-852-6606\, email:testing@louisville.edu
DESCRIPTION:Will you please add Testing Services as part of the offices lis
 ted in Davidson Hall?  Thank you!
URL:https://events.stage.louisville.edu/events/testing-services/2025-11-25
END:VEVENT
END:VCALENDAR