BEGIN:VCALENDAR
VERSION:2.0
PRODID:-//Drupal//recurring_events_ical//2.0//EN
BEGIN:VEVENT
UID:7c64d6d1-5474-4474-9c24-3e5213af0c0f@events.stage.louisville.edu
DTSTAMP:20260424T194030Z
DTSTART:20251201T120000Z
DTEND:20251201T120000Z
SUMMARY:Testing Services
CONTACT:Tammy Jones-Scrogham\, 502-852-6606\, email:testing@louisville.edu
DESCRIPTION:Will you please add Testing Services as part of the offices lis
 ted in Davidson Hall?  Thank you!
URL:https://events.stage.louisville.edu/events/testing-services/2025-12-01
END:VEVENT
END:VCALENDAR