BEGIN:VCALENDAR
VERSION:2.0
PRODID:-//Drupal//recurring_events_ical//2.0//EN
BEGIN:VEVENT
UID:6b9502cc-f934-4b5a-a32b-5fe9b1b04d74@events.stage.louisville.edu
DTSTAMP:20260424T194200Z
DTSTART:20251203T120000Z
DTEND:20251203T120000Z
SUMMARY:Testing Services
CONTACT:Tammy Jones-Scrogham\, 502-852-6606\, email:testing@louisville.edu
DESCRIPTION:Will you please add Testing Services as part of the offices lis
 ted in Davidson Hall?  Thank you!
URL:https://events.stage.louisville.edu/events/testing-services/2025-12-03
END:VEVENT
END:VCALENDAR