BEGIN:VCALENDAR
VERSION:2.0
PRODID:-//Drupal//recurring_events_ical//2.0//EN
BEGIN:VEVENT
UID:f5057795-2ce0-4005-bcde-c17fc164aa7c@events.stage.louisville.edu
DTSTAMP:20260424T194029Z
DTSTART:20251208T120000Z
DTEND:20251208T120000Z
SUMMARY:Testing Services
CONTACT:Tammy Jones-Scrogham\, 502-852-6606\, email:testing@louisville.edu
DESCRIPTION:Will you please add Testing Services as part of the offices lis
 ted in Davidson Hall?  Thank you!
URL:https://events.stage.louisville.edu/events/testing-services/2025-12-08
END:VEVENT
END:VCALENDAR