BEGIN:VCALENDAR
VERSION:2.0
PRODID:-//Drupal//recurring_events_ical//2.0//EN
BEGIN:VEVENT
UID:73ad8ad3-02fa-41df-9032-687d29b61b82@events.stage.louisville.edu
DTSTAMP:20260424T194239Z
DTSTART:20251209T120000Z
DTEND:20251209T120000Z
SUMMARY:Testing Services
CONTACT:Tammy Jones-Scrogham\, 502-852-6606\, email:testing@louisville.edu
DESCRIPTION:Will you please add Testing Services as part of the offices lis
 ted in Davidson Hall?  Thank you!
URL:https://events.stage.louisville.edu/events/testing-services/2025-12-09
END:VEVENT
END:VCALENDAR