BEGIN:VCALENDAR
VERSION:2.0
PRODID:-//Drupal//recurring_events_ical//2.0//EN
BEGIN:VEVENT
UID:53e5ad25-efc3-4bda-9e9e-81a307e92328@events.stage.louisville.edu
DTSTAMP:20260424T194159Z
DTSTART:20251225T120000Z
DTEND:20251225T120000Z
SUMMARY:Testing Services
CONTACT:Tammy Jones-Scrogham\, 502-852-6606\, email:testing@louisville.edu
DESCRIPTION:Will you please add Testing Services as part of the offices lis
 ted in Davidson Hall?  Thank you!
URL:https://events.stage.louisville.edu/events/testing-services/2025-12-25
END:VEVENT
END:VCALENDAR