BEGIN:VCALENDAR
VERSION:2.0
PRODID:-//Drupal//recurring_events_ical//2.0//EN
BEGIN:VEVENT
UID:76c3d3dc-278c-4e92-8f8a-d0aa5ccb552e@events.stage.louisville.edu
DTSTAMP:20260424T193906Z
DTSTART:20260108T120000Z
DTEND:20260108T120000Z
SUMMARY:Testing Services
CONTACT:Tammy Jones-Scrogham\, 502-852-6606\, email:testing@louisville.edu
DESCRIPTION:Will you please add Testing Services as part of the offices lis
 ted in Davidson Hall?  Thank you!
URL:https://events.stage.louisville.edu/events/testing-services/2026-01-08
END:VEVENT
END:VCALENDAR