BEGIN:VCALENDAR
VERSION:2.0
PRODID:-//Drupal//recurring_events_ical//2.0//EN
BEGIN:VEVENT
UID:206f5ddd-0617-444b-94c2-85bfefbffa0c@events.stage.louisville.edu
DTSTAMP:20260424T193911Z
DTSTART:20260119T120000Z
DTEND:20260119T120000Z
SUMMARY:Testing Services
CONTACT:Tammy Jones-Scrogham\, 502-852-6606\, email:testing@louisville.edu
DESCRIPTION:Will you please add Testing Services as part of the offices lis
 ted in Davidson Hall?  Thank you!
URL:https://events.stage.louisville.edu/events/testing-services/2026-01-19
END:VEVENT
END:VCALENDAR