BEGIN:VCALENDAR
VERSION:2.0
PRODID:-//Drupal//recurring_events_ical//2.0//EN
BEGIN:VEVENT
UID:4ee0e942-d4b5-4b5a-82e4-bc649d97a97e@events.stage.louisville.edu
DTSTAMP:20260424T194240Z
DTSTART:20260209T120000Z
DTEND:20260209T120000Z
SUMMARY:Testing Services
CONTACT:Tammy Jones-Scrogham\, 502-852-6606\, email:testing@louisville.edu
DESCRIPTION:Will you please add Testing Services as part of the offices lis
 ted in Davidson Hall?  Thank you!
URL:https://events.stage.louisville.edu/events/testing-services/2026-02-09
END:VEVENT
END:VCALENDAR