BEGIN:VCALENDAR
VERSION:2.0
PRODID:-//Drupal//recurring_events_ical//2.0//EN
BEGIN:VEVENT
UID:89d5ac2f-e596-47eb-b1f7-947bdb3b4533@events.stage.louisville.edu
DTSTAMP:20260424T194217Z
DTSTART:20260211T120000Z
DTEND:20260211T120000Z
SUMMARY:Testing Services
CONTACT:Tammy Jones-Scrogham\, 502-852-6606\, email:testing@louisville.edu
DESCRIPTION:Will you please add Testing Services as part of the offices lis
 ted in Davidson Hall?  Thank you!
URL:https://events.stage.louisville.edu/events/testing-services/2026-02-11
END:VEVENT
END:VCALENDAR