BEGIN:VCALENDAR
VERSION:2.0
PRODID:-//Drupal//recurring_events_ical//2.0//EN
BEGIN:VEVENT
UID:a13cbc70-75ba-44e3-a7f6-1b6a385fea09@events.stage.louisville.edu
DTSTAMP:20260424T194202Z
DTSTART:20260225T120000Z
DTEND:20260225T120000Z
SUMMARY:Testing Services
CONTACT:Tammy Jones-Scrogham\, 502-852-6606\, email:testing@louisville.edu
DESCRIPTION:Will you please add Testing Services as part of the offices lis
 ted in Davidson Hall?  Thank you!
URL:https://events.stage.louisville.edu/events/testing-services/2026-02-25
END:VEVENT
END:VCALENDAR