BEGIN:VCALENDAR
VERSION:2.0
PRODID:-//Drupal//recurring_events_ical//2.0//EN
BEGIN:VEVENT
UID:12efc39b-8784-4bfd-a754-77bc2a6e4260@events.stage.louisville.edu
DTSTAMP:20260424T194217Z
DTSTART:20260226T120000Z
DTEND:20260226T120000Z
SUMMARY:Testing Services
CONTACT:Tammy Jones-Scrogham\, 502-852-6606\, email:testing@louisville.edu
DESCRIPTION:Will you please add Testing Services as part of the offices lis
 ted in Davidson Hall?  Thank you!
URL:https://events.stage.louisville.edu/events/testing-services/2026-02-26
END:VEVENT
END:VCALENDAR