BEGIN:VCALENDAR
VERSION:2.0
PRODID:-//Drupal//recurring_events_ical//2.0//EN
BEGIN:VEVENT
UID:9ff8a382-cba0-45b7-bcc1-9f0c92a9197c@events.stage.louisville.edu
DTSTAMP:20260424T194027Z
DTSTART:20260304T120000Z
DTEND:20260304T120000Z
SUMMARY:Testing Services
CONTACT:Tammy Jones-Scrogham\, 502-852-6606\, email:testing@louisville.edu
DESCRIPTION:Will you please add Testing Services as part of the offices lis
 ted in Davidson Hall?  Thank you!
URL:https://events.stage.louisville.edu/events/testing-services/2026-03-04
END:VEVENT
END:VCALENDAR