BEGIN:VCALENDAR
VERSION:2.0
PRODID:-//Drupal//recurring_events_ical//2.0//EN
BEGIN:VEVENT
UID:04a29109-ec65-4276-acca-36026fe93496@events.stage.louisville.edu
DTSTAMP:20260424T194211Z
DTSTART:20260309T110000Z
DTEND:20260309T110000Z
SUMMARY:Testing Services
CONTACT:Tammy Jones-Scrogham\, 502-852-6606\, email:testing@louisville.edu
DESCRIPTION:Will you please add Testing Services as part of the offices lis
 ted in Davidson Hall?  Thank you!
URL:https://events.stage.louisville.edu/events/testing-services/2026-03-09
END:VEVENT
END:VCALENDAR