BEGIN:VCALENDAR
VERSION:2.0
PRODID:-//Drupal//recurring_events_ical//2.0//EN
BEGIN:VEVENT
UID:8b5eaebb-0917-4e26-be81-b1912fb565e0@events.stage.louisville.edu
DTSTAMP:20260424T194027Z
DTSTART:20260401T110000Z
DTEND:20260401T110000Z
SUMMARY:Testing Services
CONTACT:Tammy Jones-Scrogham\, 502-852-6606\, email:testing@louisville.edu
DESCRIPTION:Will you please add Testing Services as part of the offices lis
 ted in Davidson Hall?  Thank you!
URL:https://events.stage.louisville.edu/events/testing-services/2026-04-01
END:VEVENT
END:VCALENDAR