BEGIN:VCALENDAR
VERSION:2.0
PRODID:-//Drupal//recurring_events_ical//2.0//EN
BEGIN:VEVENT
UID:2d79377d-ed03-41e7-9579-fbf49066ffa4@events.stage.louisville.edu
DTSTAMP:20260424T194238Z
DTSTART:20260402T110000Z
DTEND:20260402T110000Z
SUMMARY:Testing Services
CONTACT:Tammy Jones-Scrogham\, 502-852-6606\, email:testing@louisville.edu
DESCRIPTION:Will you please add Testing Services as part of the offices lis
 ted in Davidson Hall?  Thank you!
URL:https://events.stage.louisville.edu/events/testing-services/2026-04-02
END:VEVENT
END:VCALENDAR