BEGIN:VCALENDAR
VERSION:2.0
PRODID:-//Drupal//recurring_events_ical//2.0//EN
BEGIN:VEVENT
UID:b8569e66-3ba2-49cf-909e-5e815aa390f5@events.stage.louisville.edu
DTSTAMP:20260424T194239Z
DTSTART:20260409T110000Z
DTEND:20260409T110000Z
SUMMARY:Testing Services
CONTACT:Tammy Jones-Scrogham\, 502-852-6606\, email:testing@louisville.edu
DESCRIPTION:Will you please add Testing Services as part of the offices lis
 ted in Davidson Hall?  Thank you!
URL:https://events.stage.louisville.edu/events/testing-services/2026-04-09
END:VEVENT
END:VCALENDAR