BEGIN:VCALENDAR
VERSION:2.0
PRODID:-//Drupal//recurring_events_ical//2.0//EN
BEGIN:VEVENT
UID:a836e3a2-5926-4ef0-a11d-ee512a7590a3@events.stage.louisville.edu
DTSTAMP:20260424T194216Z
DTSTART:20260415T110000Z
DTEND:20260415T110000Z
SUMMARY:Testing Services
CONTACT:Tammy Jones-Scrogham\, 502-852-6606\, email:testing@louisville.edu
DESCRIPTION:Will you please add Testing Services as part of the offices lis
 ted in Davidson Hall?  Thank you!
URL:https://events.stage.louisville.edu/events/testing-services/2026-04-15
END:VEVENT
END:VCALENDAR