BEGIN:VCALENDAR
VERSION:2.0
PRODID:-//Drupal//recurring_events_ical//2.0//EN
BEGIN:VEVENT
UID:794dea33-9315-4aee-ad97-6a0f43377d7c@events.stage.louisville.edu
DTSTAMP:20260424T194048Z
DTSTART:20260422T110000Z
DTEND:20260422T110000Z
SUMMARY:Testing Services
CONTACT:Tammy Jones-Scrogham\, 502-852-6606\, email:testing@louisville.edu
DESCRIPTION:Will you please add Testing Services as part of the offices lis
 ted in Davidson Hall?  Thank you!
URL:https://events.stage.louisville.edu/events/testing-services/2026-04-22
END:VEVENT
END:VCALENDAR