BEGIN:VCALENDAR
VERSION:2.0
PRODID:-//Drupal//recurring_events_ical//2.0//EN
BEGIN:VEVENT
UID:640adf8b-b54d-4fd3-9abb-0f9e3be3d038@events.stage.louisville.edu
DTSTAMP:20260424T162217Z
DTSTART:20260428T110000Z
DTEND:20260428T110000Z
SUMMARY:Testing Services
CONTACT:Tammy Jones-Scrogham\, 502-852-6606\, email:testing@louisville.edu
DESCRIPTION:Will you please add Testing Services as part of the offices lis
 ted in Davidson Hall?  Thank you!
URL:https://events.stage.louisville.edu/events/testing-services/2026-04-28
END:VEVENT
END:VCALENDAR