BEGIN:VCALENDAR
VERSION:2.0
PRODID:-//Drupal//recurring_events_ical//2.0//EN
BEGIN:VEVENT
UID:ec36ce66-4885-4ff6-978b-97433e3e0bbf@events.stage.louisville.edu
DTSTAMP:20260424T162446Z
DTSTART:20260430T110000Z
DTEND:20260430T110000Z
SUMMARY:Testing Services
CONTACT:Tammy Jones-Scrogham\, 502-852-6606\, email:testing@louisville.edu
DESCRIPTION:Will you please add Testing Services as part of the offices lis
 ted in Davidson Hall?  Thank you!
URL:https://events.stage.louisville.edu/events/testing-services/2026-04-30
END:VEVENT
END:VCALENDAR