BEGIN:VCALENDAR
VERSION:2.0
PRODID:-//Drupal//recurring_events_ical//2.0//EN
BEGIN:VEVENT
UID:39a34f86-ca40-4e5b-93f1-ce7427d0fb68@events.stage.louisville.edu
DTSTAMP:20260424T162114Z
DTSTART:20260504T110000Z
DTEND:20260504T110000Z
SUMMARY:Testing Services
CONTACT:Tammy Jones-Scrogham\, 502-852-6606\, email:testing@louisville.edu
DESCRIPTION:Will you please add Testing Services as part of the offices lis
 ted in Davidson Hall?  Thank you!
URL:https://events.stage.louisville.edu/events/testing-services/2026-05-04
END:VEVENT
END:VCALENDAR