BEGIN:VCALENDAR
VERSION:2.0
PRODID:-//Drupal//recurring_events_ical//2.0//EN
BEGIN:VEVENT
UID:7ae6d7fb-6a22-4f2d-ba73-1ecb2f6b5f04@events.stage.louisville.edu
DTSTAMP:20260424T162110Z
DTSTART:20260506T110000Z
DTEND:20260506T110000Z
SUMMARY:Testing Services
CONTACT:Tammy Jones-Scrogham\, 502-852-6606\, email:testing@louisville.edu
DESCRIPTION:Will you please add Testing Services as part of the offices lis
 ted in Davidson Hall?  Thank you!
URL:https://events.stage.louisville.edu/events/testing-services/2026-05-06
END:VEVENT
END:VCALENDAR