BEGIN:VCALENDAR
VERSION:2.0
PRODID:-//Drupal//recurring_events_ical//2.0//EN
BEGIN:VEVENT
UID:01fa8942-7b64-4d90-b890-dc96234602ed@events.stage.louisville.edu
DTSTAMP:20260424T180045Z
DTSTART:20260521T110000Z
DTEND:20260521T110000Z
SUMMARY:Testing Services
CONTACT:Tammy Jones-Scrogham\, 502-852-6606\, email:testing@louisville.edu
DESCRIPTION:Will you please add Testing Services as part of the offices lis
 ted in Davidson Hall?  Thank you!
URL:https://events.stage.louisville.edu/events/testing-services/2026-05-21
END:VEVENT
END:VCALENDAR