BEGIN:VCALENDAR
VERSION:2.0
PRODID:-//Drupal//recurring_events_ical//2.0//EN
BEGIN:VEVENT
UID:6d16c8cf-a273-4516-b114-544d19644eae@events.stage.louisville.edu
DTSTAMP:20260424T175902Z
DTSTART:20260527T110000Z
DTEND:20260527T110000Z
SUMMARY:Testing Services
CONTACT:Tammy Jones-Scrogham\, 502-852-6606\, email:testing@louisville.edu
DESCRIPTION:Will you please add Testing Services as part of the offices lis
 ted in Davidson Hall?  Thank you!
URL:https://events.stage.louisville.edu/events/testing-services/2026-05-27
END:VEVENT
END:VCALENDAR