BEGIN:VCALENDAR
VERSION:2.0
PRODID:-//Drupal//recurring_events_ical//2.0//EN
BEGIN:VEVENT
UID:b6496db5-0d6e-4264-b121-e312d2f8ff7c@events.stage.louisville.edu
DTSTAMP:20260424T162413Z
DTSTART:20260602T110000Z
DTEND:20260602T110000Z
SUMMARY:Testing Services
CONTACT:Tammy Jones-Scrogham\, 502-852-6606\, email:testing@louisville.edu
DESCRIPTION:Will you please add Testing Services as part of the offices lis
 ted in Davidson Hall?  Thank you!
URL:https://events.stage.louisville.edu/events/testing-services/2026-06-02
END:VEVENT
END:VCALENDAR