BEGIN:VCALENDAR
VERSION:2.0
PRODID:-//Drupal//recurring_events_ical//2.0//EN
BEGIN:VEVENT
UID:a9e1b6da-a0fb-40cb-b974-6fb28033c00b@events.stage.louisville.edu
DTSTAMP:20260424T175746Z
DTSTART:20260604T110000Z
DTEND:20260604T110000Z
SUMMARY:Testing Services
CONTACT:Tammy Jones-Scrogham\, 502-852-6606\, email:testing@louisville.edu
DESCRIPTION:Will you please add Testing Services as part of the offices lis
 ted in Davidson Hall?  Thank you!
URL:https://events.stage.louisville.edu/events/testing-services/2026-06-04
END:VEVENT
END:VCALENDAR