BEGIN:VCALENDAR
VERSION:2.0
PRODID:-//Drupal//recurring_events_ical//2.0//EN
BEGIN:VEVENT
UID:8411de88-c3c8-4117-8705-4d00936af229@events.stage.louisville.edu
DTSTAMP:20260424T172826Z
DTSTART:20260622T110000Z
DTEND:20260622T110000Z
SUMMARY:Testing Services
CONTACT:Tammy Jones-Scrogham\, 502-852-6606\, email:testing@louisville.edu
DESCRIPTION:Will you please add Testing Services as part of the offices lis
 ted in Davidson Hall?  Thank you!
URL:https://events.stage.louisville.edu/events/testing-services/2026-06-22
END:VEVENT
END:VCALENDAR