BEGIN:VCALENDAR
VERSION:2.0
PRODID:-//Drupal//recurring_events_ical//2.0//EN
BEGIN:VEVENT
UID:47fde2aa-9b9b-4eab-892b-0dbca608c654@events.stage.louisville.edu
DTSTAMP:20260424T162111Z
DTSTART:20260623T110000Z
DTEND:20260623T110000Z
SUMMARY:Testing Services
CONTACT:Tammy Jones-Scrogham\, 502-852-6606\, email:testing@louisville.edu
DESCRIPTION:Will you please add Testing Services as part of the offices lis
 ted in Davidson Hall?  Thank you!
URL:https://events.stage.louisville.edu/events/testing-services/2026-06-23
END:VEVENT
END:VCALENDAR