BEGIN:VCALENDAR
VERSION:2.0
PRODID:-//Drupal//recurring_events_ical//2.0//EN
BEGIN:VEVENT
UID:a4f6a035-b6a9-4c14-a6e0-68dacee02909@events.stage.louisville.edu
DTSTAMP:20260424T175709Z
DTSTART:20260701T110000Z
DTEND:20260701T110000Z
SUMMARY:Testing Services
CONTACT:Tammy Jones-Scrogham\, 502-852-6606\, email:testing@louisville.edu
DESCRIPTION:Will you please add Testing Services as part of the offices lis
 ted in Davidson Hall?  Thank you!
URL:https://events.stage.louisville.edu/events/testing-services/2026-07-01
END:VEVENT
END:VCALENDAR