BEGIN:VCALENDAR
VERSION:2.0
PRODID:-//Drupal//recurring_events_ical//2.0//EN
BEGIN:VEVENT
UID:34691509-b252-496f-baaa-91809173b216@events.stage.louisville.edu
DTSTAMP:20260424T175709Z
DTSTART:20260708T110000Z
DTEND:20260708T110000Z
SUMMARY:Testing Services
CONTACT:Tammy Jones-Scrogham\, 502-852-6606\, email:testing@louisville.edu
DESCRIPTION:Will you please add Testing Services as part of the offices lis
 ted in Davidson Hall?  Thank you!
URL:https://events.stage.louisville.edu/events/testing-services/2026-07-08
END:VEVENT
END:VCALENDAR