BEGIN:VCALENDAR
VERSION:2.0
PRODID:-//Drupal//recurring_events_ical//2.0//EN
BEGIN:VEVENT
UID:527bc8b6-9965-4b25-81a7-79d88011c067@events.stage.louisville.edu
DTSTAMP:20260424T175745Z
DTSTART:20260720T110000Z
DTEND:20260720T110000Z
SUMMARY:Testing Services
CONTACT:Tammy Jones-Scrogham\, 502-852-6606\, email:testing@louisville.edu
DESCRIPTION:Will you please add Testing Services as part of the offices lis
 ted in Davidson Hall?  Thank you!
URL:https://events.stage.louisville.edu/events/testing-services/2026-07-20
END:VEVENT
END:VCALENDAR