BEGIN:VCALENDAR
VERSION:2.0
PRODID:-//Drupal//recurring_events_ical//2.0//EN
BEGIN:VEVENT
UID:a5c52c3e-9fc3-4a1d-a4b2-dc8d6da87ef3@events.stage.louisville.edu
DTSTAMP:20260424T175708Z
DTSTART:20260722T110000Z
DTEND:20260722T110000Z
SUMMARY:Testing Services
CONTACT:Tammy Jones-Scrogham\, 502-852-6606\, email:testing@louisville.edu
DESCRIPTION:Will you please add Testing Services as part of the offices lis
 ted in Davidson Hall?  Thank you!
URL:https://events.stage.louisville.edu/events/testing-services/2026-07-22
END:VEVENT
END:VCALENDAR