BEGIN:VCALENDAR
VERSION:2.0
PRODID:-//Drupal//recurring_events_ical//2.0//EN
BEGIN:VEVENT
UID:ccd373d5-9a6c-4076-8a23-da876c7d566e@events.stage.louisville.edu
DTSTAMP:20260424T180627Z
DTSTART:20260727T110000Z
DTEND:20260727T110000Z
SUMMARY:Testing Services
CONTACT:Tammy Jones-Scrogham\, 502-852-6606\, email:testing@louisville.edu
DESCRIPTION:Will you please add Testing Services as part of the offices lis
 ted in Davidson Hall?  Thank you!
URL:https://events.stage.louisville.edu/events/testing-services/2026-07-27
END:VEVENT
END:VCALENDAR