BEGIN:VCALENDAR
VERSION:2.0
PRODID:-//Drupal//recurring_events_ical//2.0//EN
BEGIN:VEVENT
UID:22b5d9d0-2bcf-4a71-b10e-0505ca5a48f0@events.stage.louisville.edu
DTSTAMP:20260424T175737Z
DTSTART:20260729T110000Z
DTEND:20260729T110000Z
SUMMARY:Testing Services
CONTACT:Tammy Jones-Scrogham\, 502-852-6606\, email:testing@louisville.edu
DESCRIPTION:Will you please add Testing Services as part of the offices lis
 ted in Davidson Hall?  Thank you!
URL:https://events.stage.louisville.edu/events/testing-services/2026-07-29
END:VEVENT
END:VCALENDAR