BEGIN:VCALENDAR
VERSION:2.0
PRODID:-//Drupal//recurring_events_ical//2.0//EN
BEGIN:VEVENT
UID:4a3ac0c9-6c09-47b3-a47c-3dda85315fb6@events.stage.louisville.edu
DTSTAMP:20260424T162124Z
DTSTART:20260811T110000Z
DTEND:20260811T110000Z
SUMMARY:Testing Services
CONTACT:Tammy Jones-Scrogham\, 502-852-6606\, email:testing@louisville.edu
DESCRIPTION:Will you please add Testing Services as part of the offices lis
 ted in Davidson Hall?  Thank you!
URL:https://events.stage.louisville.edu/events/testing-services/2026-08-11
END:VEVENT
END:VCALENDAR