BEGIN:VCALENDAR
VERSION:2.0
PRODID:-//Drupal//recurring_events_ical//2.0//EN
BEGIN:VEVENT
UID:99d70434-4f0f-49f3-a35d-bfec09b3b71b@events.stage.louisville.edu
DTSTAMP:20260424T172738Z
DTSTART:20260909T110000Z
DTEND:20260909T110000Z
SUMMARY:Testing Services
CONTACT:Tammy Jones-Scrogham\, 502-852-6606\, email:testing@louisville.edu
DESCRIPTION:Will you please add Testing Services as part of the offices lis
 ted in Davidson Hall?  Thank you!
URL:https://events.stage.louisville.edu/events/testing-services/2026-09-09
END:VEVENT
END:VCALENDAR