BEGIN:VCALENDAR
VERSION:2.0
PRODID:-//Drupal//recurring_events_ical//2.0//EN
BEGIN:VEVENT
UID:d992ba58-8c5e-4f4b-9c47-82e8d6d96777@events.stage.louisville.edu
DTSTAMP:20260424T180047Z
DTSTART:20260917T110000Z
DTEND:20260917T110000Z
SUMMARY:Testing Services
CONTACT:Tammy Jones-Scrogham\, 502-852-6606\, email:testing@louisville.edu
DESCRIPTION:Will you please add Testing Services as part of the offices lis
 ted in Davidson Hall?  Thank you!
URL:https://events.stage.louisville.edu/events/testing-services/2026-09-17
END:VEVENT
END:VCALENDAR